BEGIN:VCALENDAR
VERSION:2.0
PRODID:-//JAX Fray //NONSGML Events //EN
CALSCALE:GREGORIAN
X-WR-CALNAME:JAX Fray
BEGIN:VEVENT
CREATED:20230720T214228Z
UID:8428
DTEND;VALUE=DATE:20260422T103510Z
DTSTART;VALUE=DATE:20260422T103510Z
DTSTAMP:20260422T143510Z
LOCATION:
DESCRIPTION:
SUMMARY:Early Bird Pricing Ends Today for JAX Fray Fall Sports
ORGANIZER:
URL;VALUE=URI:https://www.jaxfray.com/event/fall-23-early-bird-ends
TRANSP:OPAQUE
BEGIN:VALARM
ACTION:DISPLAY
TRIGGER;VALUE=DATE-TIME:20260422T103510Z
DESCRIPTION:Reminder for Early Bird Pricing Ends Today for JAX Fray Fall Sports
END:VALARM
END:VEVENT
END:VCALENDAR