BEGIN:VCALENDAR
VERSION:2.0
PRODID:-//JAX Fray //NONSGML Events //EN
CALSCALE:GREGORIAN
X-WR-CALNAME:JAX Fray
BEGIN:VEVENT
CREATED:20230720T213933Z
UID:8426
DTEND;VALUE=DATE:20260422T104049Z
DTSTART;VALUE=DATE:20260422T104049Z
DTSTAMP:20260422T144049Z
LOCATION:
DESCRIPTION:
SUMMARY:Early Bird Registration Now Open for JAX Fray Fall Season
ORGANIZER:
URL;VALUE=URI:https://www.jaxfray.com/event/fall-23-early-bird-open
TRANSP:OPAQUE
BEGIN:VALARM
ACTION:DISPLAY
TRIGGER;VALUE=DATE-TIME:20260422T104049Z
DESCRIPTION:Reminder for Early Bird Registration Now Open for JAX Fray Fall Season
END:VALARM
END:VEVENT
END:VCALENDAR