BEGIN:VCALENDAR
VERSION:2.0
PRODID:-//JAX Fray //NONSGML Events //EN
CALSCALE:GREGORIAN
X-WR-CALNAME:JAX Fray
BEGIN:VEVENT
CREATED:20230629T205639Z
UID:8337
DTEND;VALUE=DATE:20260422T104136Z
DTSTART;VALUE=DATE:20260422T104136Z
DTSTAMP:20260422T144136Z
LOCATION:
DESCRIPTION:
SUMMARY:Last Day to Register for Late Summer JAX Fray Leagues!
ORGANIZER:
URL;VALUE=URI:https://www.jaxfray.com/event/last-day-to-register-for-late-summer-jax-fray-leagues
TRANSP:OPAQUE
BEGIN:VALARM
ACTION:DISPLAY
TRIGGER;VALUE=DATE-TIME:20260422T104136Z
DESCRIPTION:Reminder for Last Day to Register for Late Summer JAX Fray Leagues!
END:VALARM
END:VEVENT
END:VCALENDAR