BEGIN:VCALENDAR
VERSION:2.0
PRODID:-//JAX Fray //NONSGML Events //EN
CALSCALE:GREGORIAN
X-WR-CALNAME:JAX Fray
BEGIN:VEVENT
CREATED:20230424T233832Z
UID:8181
DTEND;VALUE=DATE:20260422T104456Z
DTSTART;VALUE=DATE:20260422T104456Z
DTSTAMP:20260422T144456Z
LOCATION:
DESCRIPTION:
SUMMARY:Last Day to Register for Summer Sports
ORGANIZER:
URL;VALUE=URI:https://www.jaxfray.com/event/last-day-to-register-for-summer-sports
TRANSP:OPAQUE
BEGIN:VALARM
ACTION:DISPLAY
TRIGGER;VALUE=DATE-TIME:20260422T104456Z
DESCRIPTION:Reminder for Last Day to Register for Summer Sports
END:VALARM
END:VEVENT
END:VCALENDAR