BEGIN:VCALENDAR
VERSION:2.0
PRODID:-//JAX Fray //NONSGML Events //EN
CALSCALE:GREGORIAN
X-WR-CALNAME:JAX Fray
BEGIN:VEVENT
CREATED:20230424T233645Z
UID:8178
DTEND;VALUE=DATE:20260422T110303Z
DTSTART;VALUE=DATE:20260422T110303Z
DTSTAMP:20260422T150303Z
LOCATION:
DESCRIPTION:
SUMMARY:Last Day for Early Bird Pricing for Summer Sports Leagues
ORGANIZER:
URL;VALUE=URI:https://www.jaxfray.com/event/last-day-for-eb-summer-sports-leagues
TRANSP:OPAQUE
BEGIN:VALARM
ACTION:DISPLAY
TRIGGER;VALUE=DATE-TIME:20260422T110303Z
DESCRIPTION:Reminder for Last Day for Early Bird Pricing for Summer Sports Leagues
END:VALARM
END:VEVENT
END:VCALENDAR