BEGIN:VCALENDAR
VERSION:2.0
PRODID:-//JAX Fray //NONSGML Events //EN
CALSCALE:GREGORIAN
X-WR-CALNAME:JAX Fray
BEGIN:VEVENT
CREATED:20230424T233348Z
UID:8176
DTEND;VALUE=DATE:20260422T115818Z
DTSTART;VALUE=DATE:20260422T115818Z
DTSTAMP:20260422T155818Z
LOCATION:
DESCRIPTION:
SUMMARY:Summer Sports League Registration Open Now
ORGANIZER:
URL;VALUE=URI:https://www.jaxfray.com/event/summer-sports-league-registration-open-now
TRANSP:OPAQUE
BEGIN:VALARM
ACTION:DISPLAY
TRIGGER;VALUE=DATE-TIME:20260422T115818Z
DESCRIPTION:Reminder for Summer Sports League Registration Open Now
END:VALARM
END:VEVENT
END:VCALENDAR