BEGIN:VCALENDAR
VERSION:2.0
PRODID:-//JAX Fray //NONSGML Events //EN
CALSCALE:GREGORIAN
X-WR-CALNAME:JAX Fray
BEGIN:VEVENT
CREATED:20230307T205435Z
UID:7916
DTEND;VALUE=DATE:20260420T054654Z
DTSTART;VALUE=DATE:20260420T054654Z
DTSTAMP:20260420T094654Z
LOCATION:
DESCRIPTION:
SUMMARY:Tough Mudder + JAX Fray: $79 general admission March 13-19
ORGANIZER:
URL;VALUE=URI:https://www.jaxfray.com/event/tough-mudder-jax-fray-79-general-admission-march-12-through-19
TRANSP:OPAQUE
BEGIN:VALARM
ACTION:DISPLAY
TRIGGER;VALUE=DATE-TIME:20260420T054654Z
DESCRIPTION:Reminder for Tough Mudder + JAX Fray: $79 general admission March 13-19
END:VALARM
END:VEVENT
END:VCALENDAR