BEGIN:VCALENDAR
VERSION:2.0
PRODID:-//JAX Fray //NONSGML Events //EN
CALSCALE:GREGORIAN
X-WR-CALNAME:JAX Fray
BEGIN:VEVENT
CREATED:20221209T172538Z
UID:7607
DTEND;VALUE=DATE:20260422T120314Z
DTSTART;VALUE=DATE:20260422T120314Z
DTSTAMP:20260422T160314Z
LOCATION:
DESCRIPTION:
SUMMARY:78th TaxSlayer Gater Bowl
ORGANIZER:
URL;VALUE=URI:https://www.jaxfray.com/event/78th-taxslayer-gater-bowl
TRANSP:OPAQUE
BEGIN:VALARM
ACTION:DISPLAY
TRIGGER;VALUE=DATE-TIME:20260422T120314Z
DESCRIPTION:Reminder for 78th TaxSlayer Gater Bowl
END:VALARM
END:VEVENT
END:VCALENDAR