BEGIN:VCALENDAR
VERSION:2.0
PRODID:-//JAX Fray //NONSGML Events //EN
CALSCALE:GREGORIAN
X-WR-CALNAME:JAX Fray
BEGIN:VEVENT
CREATED:20221117T140915Z
UID:7455
DTEND;VALUE=DATE:20260421T040841Z
DTSTART;VALUE=DATE:20260421T040841Z
DTSTAMP:20260421T080841Z
LOCATION:
DESCRIPTION:
SUMMARY:Dazzling Nights Jacksonville
ORGANIZER:
URL;VALUE=URI:https://www.jaxfray.com/event/dazzling-nights-jacksonville-2
TRANSP:OPAQUE
BEGIN:VALARM
ACTION:DISPLAY
TRIGGER;VALUE=DATE-TIME:20260421T040841Z
DESCRIPTION:Reminder for Dazzling Nights Jacksonville
END:VALARM
END:VEVENT
END:VCALENDAR