BEGIN:VCALENDAR
VERSION:2.0
PRODID:-//JAX Fray //NONSGML Events //EN
CALSCALE:GREGORIAN
X-WR-CALNAME:JAX Fray
BEGIN:VEVENT
CREATED:20221117T140838Z
UID:7453
DTEND;VALUE=DATE:20260423T045737Z
DTSTART;VALUE=DATE:20260423T045737Z
DTSTAMP:20260423T085737Z
LOCATION:
DESCRIPTION:
SUMMARY:Dazzling Nights Jacksonville
ORGANIZER:
URL;VALUE=URI:https://www.jaxfray.com/event/dazzling-nights-jacksonville
TRANSP:OPAQUE
BEGIN:VALARM
ACTION:DISPLAY
TRIGGER;VALUE=DATE-TIME:20260423T045737Z
DESCRIPTION:Reminder for Dazzling Nights Jacksonville
END:VALARM
END:VEVENT
END:VCALENDAR