BEGIN:VCALENDAR
VERSION:2.0
PRODID:-//JAX Fray //NONSGML Events //EN
CALSCALE:GREGORIAN
X-WR-CALNAME:JAX Fray
BEGIN:VEVENT
CREATED:20221117T140613Z
UID:7449
DTEND;VALUE=DATE:20260421T053753Z
DTSTART;VALUE=DATE:20260421T053753Z
DTSTAMP:20260421T093753Z
LOCATION:
DESCRIPTION:
SUMMARY:Christmas Made in the South
ORGANIZER:
URL;VALUE=URI:https://www.jaxfray.com/event/christmas-made-in-the-south
TRANSP:OPAQUE
BEGIN:VALARM
ACTION:DISPLAY
TRIGGER;VALUE=DATE-TIME:20260421T053753Z
DESCRIPTION:Reminder for Christmas Made in the South
END:VALARM
END:VEVENT
END:VCALENDAR