BEGIN:VCALENDAR
VERSION:2.0
PRODID:-//JAX Fray //NONSGML Events //EN
CALSCALE:GREGORIAN
X-WR-CALNAME:JAX Fray
BEGIN:VEVENT
CREATED:20221117T140441Z
UID:7447
DTEND;VALUE=DATE:20260423T061128Z
DTSTART;VALUE=DATE:20260423T061128Z
DTSTAMP:20260423T101128Z
LOCATION:
DESCRIPTION:
SUMMARY:Blackhawk Bluff Christmas Lights display on Girvin
ORGANIZER:
URL;VALUE=URI:https://www.jaxfray.com/event/blackhawk-bluff-christmas-lights-display-on-girvin
TRANSP:OPAQUE
BEGIN:VALARM
ACTION:DISPLAY
TRIGGER;VALUE=DATE-TIME:20260423T061128Z
DESCRIPTION:Reminder for Blackhawk Bluff Christmas Lights display on Girvin
END:VALARM
END:VEVENT
END:VCALENDAR