BEGIN:VCALENDAR
VERSION:2.0
PRODID:-//JAX Fray //NONSGML Events //EN
CALSCALE:GREGORIAN
X-WR-CALNAME:JAX Fray
BEGIN:VEVENT
CREATED:20221109T051230Z
UID:7421
DTEND;VALUE=DATE:20260422T120125Z
DTSTART;VALUE=DATE:20260422T120125Z
DTSTAMP:20260422T160125Z
LOCATION:
DESCRIPTION:
SUMMARY:JAX Fray // Winter Bar League Registration
ORGANIZER:
URL;VALUE=URI:https://www.jaxfray.com/event/jax-fray-winter-bar-league-registration
TRANSP:OPAQUE
BEGIN:VALARM
ACTION:DISPLAY
TRIGGER;VALUE=DATE-TIME:20260422T120125Z
DESCRIPTION:Reminder for JAX Fray // Winter Bar League Registration
END:VALARM
END:VEVENT
END:VCALENDAR