BEGIN:VCALENDAR
VERSION:2.0
PRODID:-//JAX Fray //NONSGML Events //EN
CALSCALE:GREGORIAN
X-WR-CALNAME:JAX Fray
BEGIN:VEVENT
CREATED:20221027T173019Z
UID:7354
DTEND;VALUE=DATE:20260421T041708Z
DTSTART;VALUE=DATE:20260421T041708Z
DTSTAMP:20260421T081708Z
LOCATION:
DESCRIPTION:
SUMMARY:Jo Koy – Funny Is Funny World Tour
ORGANIZER:
URL;VALUE=URI:https://www.jaxfray.com/event/jo-koy-funny-is-funny-world-tour
TRANSP:OPAQUE
BEGIN:VALARM
ACTION:DISPLAY
TRIGGER;VALUE=DATE-TIME:20260421T041708Z
DESCRIPTION:Reminder for Jo Koy – Funny Is Funny World Tour
END:VALARM
END:VEVENT
END:VCALENDAR