BEGIN:VCALENDAR
VERSION:2.0
PRODID:-//JAX Fray //NONSGML Events //EN
CALSCALE:GREGORIAN
X-WR-CALNAME:JAX Fray
BEGIN:VEVENT
CREATED:20221027T172853Z
UID:7350
DTEND;VALUE=DATE:20260421T051326Z
DTSTART;VALUE=DATE:20260421T051326Z
DTSTAMP:20260421T091326Z
LOCATION:
DESCRIPTION:
SUMMARY:Family Fall Fest at Legacy Ale Works
ORGANIZER:
URL;VALUE=URI:https://www.jaxfray.com/event/family-fall-fest-at-legacy-ale-works
TRANSP:OPAQUE
BEGIN:VALARM
ACTION:DISPLAY
TRIGGER;VALUE=DATE-TIME:20260421T051326Z
DESCRIPTION:Reminder for Family Fall Fest at Legacy Ale Works
END:VALARM
END:VEVENT
END:VCALENDAR