BEGIN:VCALENDAR
VERSION:2.0
PRODID:-//JAX Fray //NONSGML Events //EN
CALSCALE:GREGORIAN
X-WR-CALNAME:JAX Fray
BEGIN:VEVENT
CREATED:20221027T172716Z
UID:7347
DTEND;VALUE=DATE:20260421T041528Z
DTSTART;VALUE=DATE:20260421T041528Z
DTSTAMP:20260421T081528Z
LOCATION:
DESCRIPTION:
SUMMARY:Mandarin Garden Club 13th Annual Craft Fair
ORGANIZER:
URL;VALUE=URI:https://www.jaxfray.com/event/mandarin-garden-club-13th-annual-craft-fair
TRANSP:OPAQUE
BEGIN:VALARM
ACTION:DISPLAY
TRIGGER;VALUE=DATE-TIME:20260421T041528Z
DESCRIPTION:Reminder for Mandarin Garden Club 13th Annual Craft Fair
END:VALARM
END:VEVENT
END:VCALENDAR