BEGIN:VCALENDAR
VERSION:2.0
PRODID:-//JAX Fray //NONSGML Events //EN
CALSCALE:GREGORIAN
X-WR-CALNAME:JAX Fray
BEGIN:VEVENT
CREATED:20221027T172451Z
UID:7345
DTEND;VALUE=DATE:20260421T041509Z
DTSTART;VALUE=DATE:20260421T041509Z
DTSTAMP:20260421T081509Z
LOCATION:
DESCRIPTION:
SUMMARY:Jacksonville PorchFest
ORGANIZER:
URL;VALUE=URI:https://www.jaxfray.com/event/jacksonville-porchfest
TRANSP:OPAQUE
BEGIN:VALARM
ACTION:DISPLAY
TRIGGER;VALUE=DATE-TIME:20260421T041509Z
DESCRIPTION:Reminder for Jacksonville PorchFest
END:VALARM
END:VEVENT
END:VCALENDAR