BEGIN:VCALENDAR
VERSION:2.0
PRODID:-//JAX Fray //NONSGML Events //EN
CALSCALE:GREGORIAN
X-WR-CALNAME:JAX Fray
BEGIN:VEVENT
CREATED:20221027T172233Z
UID:7343
DTEND;VALUE=DATE:20260421T041519Z
DTSTART;VALUE=DATE:20260421T041519Z
DTSTAMP:20260421T081519Z
LOCATION:
DESCRIPTION:
SUMMARY:Floyd Nation: Experience Pink Floyd
ORGANIZER:
URL;VALUE=URI:https://www.jaxfray.com/event/floyd-nation-experience-pink-floyd
TRANSP:OPAQUE
BEGIN:VALARM
ACTION:DISPLAY
TRIGGER;VALUE=DATE-TIME:20260421T041519Z
DESCRIPTION:Reminder for Floyd Nation: Experience Pink Floyd
END:VALARM
END:VEVENT
END:VCALENDAR