BEGIN:VCALENDAR
VERSION:2.0
PRODID:-//JAX Fray //NONSGML Events //EN
CALSCALE:GREGORIAN
X-WR-CALNAME:JAX Fray
BEGIN:VEVENT
CREATED:20221027T171854Z
UID:7339
DTEND;VALUE=DATE:20260421T072234Z
DTSTART;VALUE=DATE:20260421T072234Z
DTSTAMP:20260421T112234Z
LOCATION:
DESCRIPTION:
SUMMARY:River City Comedy Showcase
ORGANIZER:
URL;VALUE=URI:https://www.jaxfray.com/event/river-city-comedy-showcase
TRANSP:OPAQUE
BEGIN:VALARM
ACTION:DISPLAY
TRIGGER;VALUE=DATE-TIME:20260421T072234Z
DESCRIPTION:Reminder for River City Comedy Showcase
END:VALARM
END:VEVENT
END:VCALENDAR