BEGIN:VCALENDAR
VERSION:2.0
PRODID:-//JAX Fray //NONSGML Events //EN
CALSCALE:GREGORIAN
X-WR-CALNAME:JAX Fray
BEGIN:VEVENT
CREATED:20221017T204511Z
UID:7325
DTEND;VALUE=DATE:20260421T075010Z
DTSTART;VALUE=DATE:20260421T075010Z
DTSTAMP:20260421T115010Z
LOCATION:
DESCRIPTION:
SUMMARY:Florida-Georgia Game
ORGANIZER:
URL;VALUE=URI:https://www.jaxfray.com/event/florida-georgia-game
TRANSP:OPAQUE
BEGIN:VALARM
ACTION:DISPLAY
TRIGGER;VALUE=DATE-TIME:20260421T075010Z
DESCRIPTION:Reminder for Florida-Georgia Game
END:VALARM
END:VEVENT
END:VCALENDAR