BEGIN:VCALENDAR
VERSION:2.0
PRODID:-//JAX Fray //NONSGML Events //EN
CALSCALE:GREGORIAN
X-WR-CALNAME:JAX Fray
BEGIN:VEVENT
CREATED:20221017T204337Z
UID:7323
DTEND;VALUE=DATE:20260421T072200Z
DTSTART;VALUE=DATE:20260421T072200Z
DTSTAMP:20260421T112200Z
LOCATION:
DESCRIPTION:
SUMMARY:Southern Soul Music Festival
ORGANIZER:
URL;VALUE=URI:https://www.jaxfray.com/event/southern-soul-music-festival
TRANSP:OPAQUE
BEGIN:VALARM
ACTION:DISPLAY
TRIGGER;VALUE=DATE-TIME:20260421T072200Z
DESCRIPTION:Reminder for Southern Soul Music Festival
END:VALARM
END:VEVENT
END:VCALENDAR