BEGIN:VCALENDAR
VERSION:2.0
PRODID:-//JAX Fray //NONSGML Events //EN
CALSCALE:GREGORIAN
X-WR-CALNAME:JAX Fray
BEGIN:VEVENT
CREATED:20221017T204219Z
UID:7321
DTEND;VALUE=DATE:20260421T072123Z
DTSTART;VALUE=DATE:20260421T072123Z
DTSTAMP:20260421T112123Z
LOCATION:
DESCRIPTION:
SUMMARY:Luke Bryan: Raised Up Right Tour 2022
ORGANIZER:
URL;VALUE=URI:https://www.jaxfray.com/event/luke-bryan-raised-up-right-tour-2022
TRANSP:OPAQUE
BEGIN:VALARM
ACTION:DISPLAY
TRIGGER;VALUE=DATE-TIME:20260421T072123Z
DESCRIPTION:Reminder for Luke Bryan: Raised Up Right Tour 2022
END:VALARM
END:VEVENT
END:VCALENDAR