BEGIN:VCALENDAR
VERSION:2.0
PRODID:-//JAX Fray //NONSGML Events //EN
CALSCALE:GREGORIAN
X-WR-CALNAME:JAX Fray
BEGIN:VEVENT
CREATED:20221017T204026Z
UID:7319
DTEND;VALUE=DATE:20260420T070227Z
DTSTART;VALUE=DATE:20260420T070227Z
DTSTAMP:20260420T110227Z
LOCATION:
DESCRIPTION:
SUMMARY:Historic Springfield Bike-A-Boo!
ORGANIZER:
URL;VALUE=URI:https://www.jaxfray.com/event/historic-springfield-bike-a-boo
TRANSP:OPAQUE
BEGIN:VALARM
ACTION:DISPLAY
TRIGGER;VALUE=DATE-TIME:20260420T070227Z
DESCRIPTION:Reminder for Historic Springfield Bike-A-Boo!
END:VALARM
END:VEVENT
END:VCALENDAR