BEGIN:VCALENDAR
VERSION:2.0
PRODID:-//JAX Fray //NONSGML Events //EN
CALSCALE:GREGORIAN
X-WR-CALNAME:JAX Fray
BEGIN:VEVENT
CREATED:20221017T203824Z
UID:7317
DTEND;VALUE=DATE:20260421T072234Z
DTSTART;VALUE=DATE:20260421T072234Z
DTSTAMP:20260421T112234Z
LOCATION:
DESCRIPTION:
SUMMARY:Legacy Oktoberfest 2.5 Mile Run &amp; Afterparty
ORGANIZER:
URL;VALUE=URI:https://www.jaxfray.com/event/legacy-oktoberfest-2-5-mile-run-afterparty
TRANSP:OPAQUE
BEGIN:VALARM
ACTION:DISPLAY
TRIGGER;VALUE=DATE-TIME:20260421T072234Z
DESCRIPTION:Reminder for Legacy Oktoberfest 2.5 Mile Run &amp; Afterparty
END:VALARM
END:VEVENT
END:VCALENDAR