BEGIN:VCALENDAR
VERSION:2.0
PRODID:-//JAX Fray //NONSGML Events //EN
CALSCALE:GREGORIAN
X-WR-CALNAME:JAX Fray
BEGIN:VEVENT
CREATED:20221017T203503Z
UID:7313
DTEND;VALUE=DATE:20260421T072200Z
DTSTART;VALUE=DATE:20260421T072200Z
DTSTAMP:20260421T112200Z
LOCATION:
DESCRIPTION:
SUMMARY:Dawgs vs. Gators Fall Exhibition Baseball Game
ORGANIZER:
URL;VALUE=URI:https://www.jaxfray.com/event/dawgs-vs-gators-fall-exhibition-baseball-game
TRANSP:OPAQUE
BEGIN:VALARM
ACTION:DISPLAY
TRIGGER;VALUE=DATE-TIME:20260421T072200Z
DESCRIPTION:Reminder for Dawgs vs. Gators Fall Exhibition Baseball Game
END:VALARM
END:VEVENT
END:VCALENDAR