BEGIN:VCALENDAR
VERSION:2.0
PRODID:-//JAX Fray //NONSGML Events //EN
CALSCALE:GREGORIAN
X-WR-CALNAME:JAX Fray
BEGIN:VEVENT
CREATED:20221017T203407Z
UID:7311
DTEND;VALUE=DATE:20260421T072123Z
DTSTART;VALUE=DATE:20260421T072123Z
DTSTAMP:20260421T112123Z
LOCATION:
DESCRIPTION:
SUMMARY:At the Ballet – Symphony in 60
ORGANIZER:
URL;VALUE=URI:https://www.jaxfray.com/event/at-the-ballet-symphony-in-60
TRANSP:OPAQUE
BEGIN:VALARM
ACTION:DISPLAY
TRIGGER;VALUE=DATE-TIME:20260421T072123Z
DESCRIPTION:Reminder for At the Ballet – Symphony in 60
END:VALARM
END:VEVENT
END:VCALENDAR