BEGIN:VCALENDAR
VERSION:2.0
PRODID:-//JAX Fray //NONSGML Events //EN
CALSCALE:GREGORIAN
X-WR-CALNAME:JAX Fray
BEGIN:VEVENT
CREATED:20221017T203137Z
UID:7309
DTEND;VALUE=DATE:20260421T072225Z
DTSTART;VALUE=DATE:20260421T072225Z
DTSTAMP:20260421T112225Z
LOCATION:
DESCRIPTION:
SUMMARY:Tally Tap Takeover at Legacy Ale Works
ORGANIZER:
URL;VALUE=URI:https://www.jaxfray.com/event/tally-tap-takeover-at-legacy-ale-works
TRANSP:OPAQUE
BEGIN:VALARM
ACTION:DISPLAY
TRIGGER;VALUE=DATE-TIME:20260421T072225Z
DESCRIPTION:Reminder for Tally Tap Takeover at Legacy Ale Works
END:VALARM
END:VEVENT
END:VCALENDAR