BEGIN:VCALENDAR
VERSION:2.0
PRODID:-//JAX Fray //NONSGML Events //EN
CALSCALE:GREGORIAN
X-WR-CALNAME:JAX Fray
BEGIN:VEVENT
CREATED:20221017T202951Z
UID:7307
DTEND;VALUE=DATE:20260421T085223Z
DTSTART;VALUE=DATE:20260421T085223Z
DTSTAMP:20260421T125223Z
LOCATION:
DESCRIPTION:
SUMMARY:Daniel Howell: We’re All Doomed!
ORGANIZER:
URL;VALUE=URI:https://www.jaxfray.com/event/daniel-howell-were-all-doomed
TRANSP:OPAQUE
BEGIN:VALARM
ACTION:DISPLAY
TRIGGER;VALUE=DATE-TIME:20260421T085223Z
DESCRIPTION:Reminder for Daniel Howell: We’re All Doomed!
END:VALARM
END:VEVENT
END:VCALENDAR