BEGIN:VCALENDAR
VERSION:2.0
PRODID:-//JAX Fray //NONSGML Events //EN
CALSCALE:GREGORIAN
X-WR-CALNAME:JAX Fray
BEGIN:VEVENT
CREATED:20221017T202731Z
UID:7305
DTEND;VALUE=DATE:20260421T085317Z
DTSTART;VALUE=DATE:20260421T085317Z
DTSTAMP:20260421T125317Z
LOCATION:
DESCRIPTION:
SUMMARY:Josh Gates Live! An Evening of Ghosts, Monsters and, Tales of Adventure
ORGANIZER:
URL;VALUE=URI:https://www.jaxfray.com/event/josh-gates-live-an-evening-of-ghosts-monsters-and-tales-of-adventure
TRANSP:OPAQUE
BEGIN:VALARM
ACTION:DISPLAY
TRIGGER;VALUE=DATE-TIME:20260421T085317Z
DESCRIPTION:Reminder for Josh Gates Live! An Evening of Ghosts\, Monsters and\, Tales of Adventure
END:VALARM
END:VEVENT
END:VCALENDAR