BEGIN:VCALENDAR
VERSION:2.0
PRODID:-//JAX Fray //NONSGML Events //EN
CALSCALE:GREGORIAN
X-WR-CALNAME:JAX Fray
BEGIN:VEVENT
CREATED:20221017T202505Z
UID:7303
DTEND;VALUE=DATE:20260421T085341Z
DTSTART;VALUE=DATE:20260421T085341Z
DTSTAMP:20260421T125341Z
LOCATION:
DESCRIPTION:
SUMMARY:The Civic Orchestra of Jacksonville presents Magic And Mystery
ORGANIZER:
URL;VALUE=URI:https://www.jaxfray.com/event/the-civic-orchestra-of-jacksonville-presents-magic-and-mystery
TRANSP:OPAQUE
BEGIN:VALARM
ACTION:DISPLAY
TRIGGER;VALUE=DATE-TIME:20260421T085341Z
DESCRIPTION:Reminder for The Civic Orchestra of Jacksonville presents Magic And Mystery
END:VALARM
END:VEVENT
END:VCALENDAR