BEGIN:VCALENDAR
VERSION:2.0
PRODID:-//JAX Fray //NONSGML Events //EN
CALSCALE:GREGORIAN
X-WR-CALNAME:JAX Fray
BEGIN:VEVENT
CREATED:20221013T191331Z
UID:7273
DTEND;VALUE=DATE:20260421T084903Z
DTSTART;VALUE=DATE:20260421T084903Z
DTSTAMP:20260421T124903Z
LOCATION:
DESCRIPTION:
SUMMARY:NAS JAX Air Show
ORGANIZER:
URL;VALUE=URI:https://www.jaxfray.com/event/nas-jax-air-show
TRANSP:OPAQUE
BEGIN:VALARM
ACTION:DISPLAY
TRIGGER;VALUE=DATE-TIME:20260421T084903Z
DESCRIPTION:Reminder for NAS JAX Air Show
END:VALARM
END:VEVENT
END:VCALENDAR