BEGIN:VCALENDAR
VERSION:2.0
PRODID:-//JAX Fray //NONSGML Events //EN
CALSCALE:GREGORIAN
X-WR-CALNAME:JAX Fray
BEGIN:VEVENT
CREATED:20221013T191114Z
UID:7269
DTEND;VALUE=DATE:20260421T084416Z
DTSTART;VALUE=DATE:20260421T084416Z
DTSTAMP:20260421T124416Z
LOCATION:
DESCRIPTION:
SUMMARY:Sip &amp; Stroll Presented by PNC
ORGANIZER:
URL;VALUE=URI:https://www.jaxfray.com/event/sip-stroll-presented-by-pnc
TRANSP:OPAQUE
BEGIN:VALARM
ACTION:DISPLAY
TRIGGER;VALUE=DATE-TIME:20260421T084416Z
DESCRIPTION:Reminder for Sip &amp; Stroll Presented by PNC
END:VALARM
END:VEVENT
END:VCALENDAR