BEGIN:VCALENDAR
VERSION:2.0
PRODID:-//JAX Fray //NONSGML Events //EN
CALSCALE:GREGORIAN
X-WR-CALNAME:JAX Fray
BEGIN:VEVENT
CREATED:20221013T174314Z
UID:7268
DTEND;VALUE=DATE:20260421T085219Z
DTSTART;VALUE=DATE:20260421T085219Z
DTSTAMP:20260421T125219Z
LOCATION:
DESCRIPTION:
SUMMARY:#FrayLife Cornhole Tournament at Ruby Beach
ORGANIZER:
URL;VALUE=URI:https://www.jaxfray.com/event/fraylife-cornhole-tournament-at-ruby-beach-2
TRANSP:OPAQUE
BEGIN:VALARM
ACTION:DISPLAY
TRIGGER;VALUE=DATE-TIME:20260421T085219Z
DESCRIPTION:Reminder for #FrayLife Cornhole Tournament at Ruby Beach
END:VALARM
END:VEVENT
END:VCALENDAR