BEGIN:VCALENDAR
VERSION:2.0
PRODID:-//JAX Fray //NONSGML Events //EN
CALSCALE:GREGORIAN
X-WR-CALNAME:JAX Fray
BEGIN:VEVENT
CREATED:20221013T174204Z
UID:7266
DTEND;VALUE=DATE:20260421T085317Z
DTSTART;VALUE=DATE:20260421T085317Z
DTSTAMP:20260421T125317Z
LOCATION:
DESCRIPTION:
SUMMARY:#FrayLife Cornhole Tournament at Ruby Beach
ORGANIZER:
URL;VALUE=URI:https://www.jaxfray.com/event/fraylife-cornhole-tournament-at-ruby-beach
TRANSP:OPAQUE
BEGIN:VALARM
ACTION:DISPLAY
TRIGGER;VALUE=DATE-TIME:20260421T085317Z
DESCRIPTION:Reminder for #FrayLife Cornhole Tournament at Ruby Beach
END:VALARM
END:VEVENT
END:VCALENDAR