BEGIN:VCALENDAR
VERSION:2.0
PRODID:-//JAX Fray //NONSGML Events //EN
CALSCALE:GREGORIAN
X-WR-CALNAME:JAX Fray
BEGIN:VEVENT
CREATED:20220909T144204Z
UID:7210
DTEND;VALUE=DATE:20260422T132259Z
DTSTART;VALUE=DATE:20260422T132259Z
DTSTAMP:20260422T172259Z
LOCATION:
DESCRIPTION:
SUMMARY:JAX Fray Fall League Registration Ends Wednesday, September 14
ORGANIZER:
URL;VALUE=URI:https://www.jaxfray.com/event/jax-fray-fall-league-registration-ends
TRANSP:OPAQUE
BEGIN:VALARM
ACTION:DISPLAY
TRIGGER;VALUE=DATE-TIME:20260422T132259Z
DESCRIPTION:Reminder for JAX Fray Fall League Registration Ends Wednesday\, September 14
END:VALARM
END:VEVENT
END:VCALENDAR