BEGIN:VCALENDAR
VERSION:2.0
PRODID:-//JAX Fray //NONSGML Events //EN
CALSCALE:GREGORIAN
X-WR-CALNAME:JAX Fray
BEGIN:VEVENT
CREATED:20220908T173558Z
UID:7206
DTEND;VALUE=DATE:20260421T085223Z
DTSTART;VALUE=DATE:20260421T085223Z
DTSTAMP:20260421T125223Z
LOCATION:
DESCRIPTION:
SUMMARY:Jacksonville Job Fair
ORGANIZER:
URL;VALUE=URI:https://www.jaxfray.com/event/jacksonville-job-fair
TRANSP:OPAQUE
BEGIN:VALARM
ACTION:DISPLAY
TRIGGER;VALUE=DATE-TIME:20260421T085223Z
DESCRIPTION:Reminder for Jacksonville Job Fair
END:VALARM
END:VEVENT
END:VCALENDAR