BEGIN:VCALENDAR
VERSION:2.0
PRODID:-//JAX Fray //NONSGML Events //EN
CALSCALE:GREGORIAN
X-WR-CALNAME:JAX Fray
BEGIN:VEVENT
CREATED:20220908T173422Z
UID:7204
DTEND;VALUE=DATE:20260421T085216Z
DTSTART;VALUE=DATE:20260421T085216Z
DTSTAMP:20260421T125216Z
LOCATION:
DESCRIPTION:
SUMMARY:2022 Jacksonville Taco &amp; Tequila Festival
ORGANIZER:
URL;VALUE=URI:https://www.jaxfray.com/event/2022-jacksonville-taco-tequila-festival
TRANSP:OPAQUE
BEGIN:VALARM
ACTION:DISPLAY
TRIGGER;VALUE=DATE-TIME:20260421T085216Z
DESCRIPTION:Reminder for 2022 Jacksonville Taco &amp; Tequila Festival
END:VALARM
END:VEVENT
END:VCALENDAR