BEGIN:VCALENDAR
VERSION:2.0
PRODID:-//JAX Fray //NONSGML Events //EN
CALSCALE:GREGORIAN
X-WR-CALNAME:JAX Fray
BEGIN:VEVENT
CREATED:20220908T173311Z
UID:7202
DTEND;VALUE=DATE:20260421T102358Z
DTSTART;VALUE=DATE:20260421T102358Z
DTSTAMP:20260421T142358Z
LOCATION:
DESCRIPTION:
SUMMARY:Uncorked: JAX Wine Fest
ORGANIZER:
URL;VALUE=URI:https://www.jaxfray.com/event/uncorked-jax-wine-fest
TRANSP:OPAQUE
BEGIN:VALARM
ACTION:DISPLAY
TRIGGER;VALUE=DATE-TIME:20260421T102358Z
DESCRIPTION:Reminder for Uncorked: JAX Wine Fest
END:VALARM
END:VEVENT
END:VCALENDAR