BEGIN:VCALENDAR
VERSION:2.0
PRODID:-//JAX Fray //NONSGML Events //EN
CALSCALE:GREGORIAN
X-WR-CALNAME:JAX Fray
BEGIN:VEVENT
CREATED:20220908T173103Z
UID:7200
DTEND;VALUE=DATE:20260421T102333Z
DTSTART;VALUE=DATE:20260421T102333Z
DTSTAMP:20260421T142333Z
LOCATION:
DESCRIPTION:
SUMMARY:Duval Adult Prom
ORGANIZER:
URL;VALUE=URI:https://www.jaxfray.com/event/duval-adult-prom
TRANSP:OPAQUE
BEGIN:VALARM
ACTION:DISPLAY
TRIGGER;VALUE=DATE-TIME:20260421T102333Z
DESCRIPTION:Reminder for Duval Adult Prom
END:VALARM
END:VEVENT
END:VCALENDAR