BEGIN:VCALENDAR
VERSION:2.0
PRODID:-//JAX Fray //NONSGML Events //EN
CALSCALE:GREGORIAN
X-WR-CALNAME:JAX Fray
BEGIN:VEVENT
CREATED:20220908T172939Z
UID:7198
DTEND;VALUE=DATE:20260423T063734Z
DTSTART;VALUE=DATE:20260423T063734Z
DTSTAMP:20260423T103734Z
LOCATION:
DESCRIPTION:
SUMMARY:Dab Day: Jacksonville Halloween Edition
ORGANIZER:
URL;VALUE=URI:https://www.jaxfray.com/event/dab-day-jacksonville-halloween-edition
TRANSP:OPAQUE
BEGIN:VALARM
ACTION:DISPLAY
TRIGGER;VALUE=DATE-TIME:20260423T063734Z
DESCRIPTION:Reminder for Dab Day: Jacksonville Halloween Edition
END:VALARM
END:VEVENT
END:VCALENDAR