BEGIN:VCALENDAR
VERSION:2.0
PRODID:-//JAX Fray //NONSGML Events //EN
CALSCALE:GREGORIAN
X-WR-CALNAME:JAX Fray
BEGIN:VEVENT
CREATED:20220908T172721Z
UID:7196
DTEND;VALUE=DATE:20260421T102332Z
DTSTART;VALUE=DATE:20260421T102332Z
DTSTAMP:20260421T142332Z
LOCATION:
DESCRIPTION:
SUMMARY:Daily Bread – Jacksonville, FL
ORGANIZER:
URL;VALUE=URI:https://www.jaxfray.com/event/daily-bread-jacksonville-fl
TRANSP:OPAQUE
BEGIN:VALARM
ACTION:DISPLAY
TRIGGER;VALUE=DATE-TIME:20260421T102332Z
DESCRIPTION:Reminder for Daily Bread – Jacksonville\, FL
END:VALARM
END:VEVENT
END:VCALENDAR