BEGIN:VCALENDAR
VERSION:2.0
PRODID:-//JAX Fray //NONSGML Events //EN
CALSCALE:GREGORIAN
X-WR-CALNAME:JAX Fray
BEGIN:VEVENT
CREATED:20220908T172559Z
UID:7194
DTEND;VALUE=DATE:20260421T102420Z
DTSTART;VALUE=DATE:20260421T102420Z
DTSTAMP:20260421T142420Z
LOCATION:
DESCRIPTION:
SUMMARY:The Artists &amp; Artwork of Marvel, Star Wars &amp; Disney Come to Jacksonville
ORGANIZER:
URL;VALUE=URI:https://www.jaxfray.com/event/the-artists-artwork-of-marvel-star-wars-disney-come-to-jacksonville
TRANSP:OPAQUE
BEGIN:VALARM
ACTION:DISPLAY
TRIGGER;VALUE=DATE-TIME:20260421T102420Z
DESCRIPTION:Reminder for The Artists &amp; Artwork of Marvel\, Star Wars &amp; Disney Come to Jacksonville
END:VALARM
END:VEVENT
END:VCALENDAR