BEGIN:VCALENDAR
VERSION:2.0
PRODID:-//JAX Fray //NONSGML Events //EN
CALSCALE:GREGORIAN
X-WR-CALNAME:JAX Fray
BEGIN:VEVENT
CREATED:20220908T171926Z
UID:7192
DTEND;VALUE=DATE:20260421T102326Z
DTSTART;VALUE=DATE:20260421T102326Z
DTSTAMP:20260421T142326Z
LOCATION:
DESCRIPTION:
SUMMARY:Jaguars Season Opener at Legacy Ale Works
ORGANIZER:
URL;VALUE=URI:https://www.jaxfray.com/event/jaguars-season-opener-at-legacy-ale-works
TRANSP:OPAQUE
BEGIN:VALARM
ACTION:DISPLAY
TRIGGER;VALUE=DATE-TIME:20260421T102326Z
DESCRIPTION:Reminder for Jaguars Season Opener at Legacy Ale Works
END:VALARM
END:VEVENT
END:VCALENDAR