BEGIN:VCALENDAR
VERSION:2.0
PRODID:-//JAX Fray //NONSGML Events //EN
CALSCALE:GREGORIAN
X-WR-CALNAME:JAX Fray
BEGIN:VEVENT
CREATED:20220908T171756Z
UID:7190
DTEND;VALUE=DATE:20260421T102326Z
DTSTART;VALUE=DATE:20260421T102326Z
DTSTAMP:20260421T142326Z
LOCATION:
DESCRIPTION:
SUMMARY:Open Mic Night
ORGANIZER:
URL;VALUE=URI:https://www.jaxfray.com/event/open-mic-night-2
TRANSP:OPAQUE
BEGIN:VALARM
ACTION:DISPLAY
TRIGGER;VALUE=DATE-TIME:20260421T102326Z
DESCRIPTION:Reminder for Open Mic Night
END:VALARM
END:VEVENT
END:VCALENDAR