BEGIN:VCALENDAR
VERSION:2.0
PRODID:-//JAX Fray //NONSGML Events //EN
CALSCALE:GREGORIAN
X-WR-CALNAME:JAX Fray
BEGIN:VEVENT
CREATED:20220908T171537Z
UID:7187
DTEND;VALUE=DATE:20260423T055546Z
DTSTART;VALUE=DATE:20260423T055546Z
DTSTAMP:20260423T095546Z
LOCATION:
DESCRIPTION:
SUMMARY:Collective Soul and Switchfood
ORGANIZER:
URL;VALUE=URI:https://www.jaxfray.com/event/collective-soul-and-switchfood
TRANSP:OPAQUE
BEGIN:VALARM
ACTION:DISPLAY
TRIGGER;VALUE=DATE-TIME:20260423T055546Z
DESCRIPTION:Reminder for Collective Soul and Switchfood
END:VALARM
END:VEVENT
END:VCALENDAR