BEGIN:VCALENDAR
VERSION:2.0
PRODID:-//JAX Fray //NONSGML Events //EN
CALSCALE:GREGORIAN
X-WR-CALNAME:JAX Fray
BEGIN:VEVENT
CREATED:20220908T171413Z
UID:7185
DTEND;VALUE=DATE:20260421T115606Z
DTSTART;VALUE=DATE:20260421T115606Z
DTSTAMP:20260421T155606Z
LOCATION:
DESCRIPTION:
SUMMARY:Pints for Prism at Legacy Ale Works
ORGANIZER:
URL;VALUE=URI:https://www.jaxfray.com/event/pints-for-prism-at-legacy-ale-works
TRANSP:OPAQUE
BEGIN:VALARM
ACTION:DISPLAY
TRIGGER;VALUE=DATE-TIME:20260421T115606Z
DESCRIPTION:Reminder for Pints for Prism at Legacy Ale Works
END:VALARM
END:VEVENT
END:VCALENDAR