BEGIN:VCALENDAR
VERSION:2.0
PRODID:-//JAX Fray //NONSGML Events //EN
CALSCALE:GREGORIAN
X-WR-CALNAME:JAX Fray
BEGIN:VEVENT
CREATED:20220908T170940Z
UID:7181
DTEND;VALUE=DATE:20260421T115606Z
DTSTART;VALUE=DATE:20260421T115606Z
DTSTAMP:20260421T155606Z
LOCATION:
DESCRIPTION:
SUMMARY:Latin Night – Live Band @ Dante’s Place Jax
ORGANIZER:
URL;VALUE=URI:https://www.jaxfray.com/event/latin-night-live-band-dantes-place-jax
TRANSP:OPAQUE
BEGIN:VALARM
ACTION:DISPLAY
TRIGGER;VALUE=DATE-TIME:20260421T115606Z
DESCRIPTION:Reminder for Latin Night – Live Band @ Dante’s Place Jax
END:VALARM
END:VEVENT
END:VCALENDAR