BEGIN:VCALENDAR
VERSION:2.0
PRODID:-//JAX Fray //NONSGML Events //EN
CALSCALE:GREGORIAN
X-WR-CALNAME:JAX Fray
BEGIN:VEVENT
CREATED:20220908T170757Z
UID:7179
DTEND;VALUE=DATE:20260421T115627Z
DTSTART;VALUE=DATE:20260421T115627Z
DTSTAMP:20260421T155627Z
LOCATION:
DESCRIPTION:
SUMMARY:Beyond Van Gogh Jacksonville
ORGANIZER:
URL;VALUE=URI:https://www.jaxfray.com/event/beyond-van-gogh-jacksonville
TRANSP:OPAQUE
BEGIN:VALARM
ACTION:DISPLAY
TRIGGER;VALUE=DATE-TIME:20260421T115627Z
DESCRIPTION:Reminder for Beyond Van Gogh Jacksonville
END:VALARM
END:VEVENT
END:VCALENDAR