BEGIN:VCALENDAR
VERSION:2.0
PRODID:-//JAX Fray //NONSGML Events //EN
CALSCALE:GREGORIAN
X-WR-CALNAME:JAX Fray
BEGIN:VEVENT
CREATED:20220908T170548Z
UID:7176
DTEND;VALUE=DATE:20260423T065519Z
DTSTART;VALUE=DATE:20260423T065519Z
DTSTAMP:20260423T105519Z
LOCATION:
DESCRIPTION:
SUMMARY:Candy &amp; Cocktails
ORGANIZER:
URL;VALUE=URI:https://www.jaxfray.com/event/candy-cocktails-5
TRANSP:OPAQUE
BEGIN:VALARM
ACTION:DISPLAY
TRIGGER;VALUE=DATE-TIME:20260423T065519Z
DESCRIPTION:Reminder for Candy &amp; Cocktails
END:VALARM
END:VEVENT
END:VCALENDAR