BEGIN:VCALENDAR
VERSION:2.0
PRODID:-//JAX Fray //NONSGML Events //EN
CALSCALE:GREGORIAN
X-WR-CALNAME:JAX Fray
BEGIN:VEVENT
CREATED:20220908T170508Z
UID:7174
DTEND;VALUE=DATE:20260421T115613Z
DTSTART;VALUE=DATE:20260421T115613Z
DTSTAMP:20260421T155613Z
LOCATION:
DESCRIPTION:
SUMMARY:Candy &amp; Cocktails
ORGANIZER:
URL;VALUE=URI:https://www.jaxfray.com/event/candy-cocktails-3
TRANSP:OPAQUE
BEGIN:VALARM
ACTION:DISPLAY
TRIGGER;VALUE=DATE-TIME:20260421T115613Z
DESCRIPTION:Reminder for Candy &amp; Cocktails
END:VALARM
END:VEVENT
END:VCALENDAR